BEGIN:VCALENDAR
VERSION:2.0
PRODID:icalendar-ruby
CALSCALE:GREGORIAN
METHOD:PUBLISH
BEGIN:VEVENT
DTSTAMP:20260420T041150Z
UID:52-213943@thecross.life
DTSTART:20260510T150000Z
DTEND:20260510T170000Z
CLASS:PUBLIC
CREATED:20260414T123517
DESCRIPTION:
LAST-MODIFIED:20260414T123517
LOCATION:
SUMMARY:Mother's Day
URL;VALUE=URI:https://thecross.life/events/mothers-day/2026-05-10
END:VEVENT
END:VCALENDAR
