BEGIN:VCALENDAR
VERSION:2.0
PRODID:icalendar-ruby
CALSCALE:GREGORIAN
METHOD:PUBLISH
BEGIN:VEVENT
DTSTAMP:20260420T040514Z
UID:54-213944@thecross.life
DTSTART:20260524T150000Z
DTEND:20260524T170000Z
CLASS:PUBLIC
CREATED:20260414T123623
DESCRIPTION:
LAST-MODIFIED:20260414T123623
LOCATION:
SUMMARY:Child Dedication
URL;VALUE=URI:https://thecross.life/events/child-dedication--54/2026-05-24
END:VEVENT
END:VCALENDAR
